Workbook

Sheet 统计
A1: 课程类别 | B1: ="必修课："&SUM(B4:H4)&"学分" -> 必修课：123.5学分 | I1: ="选修课："&SUM(I4:K4)&"学分" -> 选修课：10学分 | L1: 实践学分 | M1: 总学分
B2: 通识必修课 | D2: 学科及专业基础课 | F2: 专业课 | H2: 集中实践环节 | I2: 通识选修课 | J2: 专业选修课
B3: 理论 | C3: 实践 | D3: 理论 | E3: 实践 | F3: 理论 | G3: 实践 | H3: 实践 | I3: 理论 | J3: 理论 | K3: 实践
A4: 学分 | B4: =(B9-40)/16 -> 82.875 | C4: =(C9-80)/16 -> 12.625 | D4: =D9/16 -> 0 | E4: =E9/16 -> 0 | F4: =F9/16 -> 0 | G4: =G9/16 -> 0 | H4: =SUM(xx专业!H92:H97) -> 28 | I4: =I9/16 -> 8 | J4: =J9/16 -> 1 | K4: =K9/16 -> 1 | L4: =C4+E4+G4+H4+K4 -> 41.625 | M4: =xx专业!H99 -> 135.5
A5: ="实践教学环节学分所占比例："&ROUND(L4/M4*100,2)&"%" -> 实践教学环节学分所占比例：30.72%
A6: 课程类别 | B6: 必修课 | I6: 选修课 | L6: 课内学时 | M6: 总学时
B7: 通识必修课 | D7: 学科及专业基础课 | F7: 专业课 | H7: 集中实践环节 | I7: 通识选修课 | J7: 专业选修课
B8: 理论 | C8: 实践 | D8: 理论 | E8: 实践 | F8: 理论 | G8: 实践 | H8: 实践 | I8: 理论 | J8: 理论 | K8: 实践
A9: 学时 | B9: =xx专业!J55 -> 1366 | C9: =(xx专业!K55+xx专业!L55) -> 282 | D9: =xx专业!J67 -> 0 | E9: =(xx专业!K67+xx专业!L67) -> 0 | F9: =xx专业!J78 -> 0 | G9: =(xx专业!K78+xx专业!L78) -> 0 | H9: XX周 | I9: 128 | J9: =xx专业!J91 -> 16 | K9: =xx专业!K91+xx专业!L91 -> 16 | L9: =SUM(B9:G9)+SUM(I9:K9) -> 1808 | M9: =L9&"学时"&"+"&H9 -> 1808学时+XX周
A10: ="实践教学环节学时所占比例："&ROUND((C9+E9+G9+K9+H4*20)/(SUM(B9:G9)+SUM(I9:K9)+H4*20)*100,2)&"%" -> 实践教学环节学时所占比例：36.23%
A11: 注：
A12: 1．集中性实践教学环节每学分折算20学时。
A13: 2．实践教学环节学时所占比例=各类课程实践学时之和/总学时。
A14: 3．课内总学时不含集中实践环节学时。
A15: 4．创新创业及素质教育学时只计算创新创业课程的学时，创新创业及素质教育实践学分不折算学时。
A16: 5．专业选修课理论（实践）学时=（专业选修课最低要求学分/计划中列出的专业选修课学分之和）×专业选修课理论（实践）学时之和。
A17: 6．通识选修课的学时=通识选修课的学分要求×16，全部计入理论学时。
